BEGIN:VCALENDAR
VERSION:2.0
PRODID:-//ChamberMaster//Event Calendar 2.0//EN
METHOD:PUBLISH
X-PUBLISHED-TTL:P3D
REFRESH-INTERVAL:P3D
CALSCALE:GREGORIAN
BEGIN:VEVENT
DTSTART:20160512T130000Z
DTEND:20160512T153000Z
X-MICROSOFT-CDO-ALLDAYEVENT:FALSE
SUMMARY:SCORE Seminar: Three Leg Stool of an Effective Web Presence
DESCRIPTION:Three Leg Stool of an Effective Web Presence\n\n\n\nA SCORE workshop presented by:\n\nSteven Antisdel\, Precept Partners\n\n\n\nThis seminar is a instructional input on how to create and use an online presence that can build your company's brand\, and grow your business by following a proven\, systemic\, three step-process.  The workshop is taught by Stephen Antisdel\, award-winning website designer\, developer\, marketer\, and owner of Precept Partners\, LLC.\n\n\n\nGrowing Your Business in the Online Channel is designed for business owners interested in improving their online visibility\, while generating sales and qualified sales leads to grow their company (and bottom line) using a proven process tested in real-world businesses of all kinds.\n\n\n\nFor further information visit the SCORE web site at www.elkhart.score.org or contact the Goshen Chamber of Commerce at 533-2102.
X-ALT-DESC;FMTTYPE=text/html:<span style="font-size:18px\;"><strong>Three Leg Stool of an Effective Web Presence</strong></span><br />\n<br />\n<strong><em>A SCORE workshop presented by:<br />\nSteven Antisdel\, Precept Partners</em></strong><br />\n<br />\nThis seminar is a instructional input on how to create and use an online presence that can build your company&#39\;s brand\, and grow your business by following a proven\, systemic\, three step-process.&nbsp\; The workshop is taught by Stephen Antisdel\, award-winning website designer\, developer\, marketer\, and owner of Precept Partners\, LLC.<br />\n<br />\n<em>Growing Your Business in the Online Channel</em> is designed for business owners interested in improving their online visibility\, while generating sales and qualified sales leads to grow their company (and bottom line) using a proven process tested in real-world businesses of all kinds.<br />\n<br />\nFor further information visit the SCORE web site at www.elkhart.score.org or contact the Goshen Chamber of Commerce at 533-2102.
LOCATION:Goshen Chamber Building 232 S. Main St. Goshen\, IN 46526
UID:e.689.15821
SEQUENCE:3
DTSTAMP:20260426T040019Z
URL:https://business.goshen.org/events/details/score-seminar-three-leg-stool-of-an-effective-web-presence-05-12-2016-15821
END:VEVENT

END:VCALENDAR
