BEGIN:VCALENDAR
VERSION:2.0
PRODID:-//ChamberMaster//Event Calendar 2.0//EN
METHOD:PUBLISH
X-PUBLISHED-TTL:P3D
REFRESH-INTERVAL:P3D
CALSCALE:GREGORIAN
BEGIN:VEVENT
DTSTART:20170322T210000Z
DTEND:20170322T230000Z
X-MICROSOFT-CDO-ALLDAYEVENT:FALSE
SUMMARY:Sara Centeno will be signing copies of her book\, "Success the Ultimate Guide to College\, Career\, & Personal Excellence"
DESCRIPTION:Sara Centeno will be signing copies of her book\, "Success the Ultimate Guide to College\, Career\, & Personal Excellence"\n\n\n\nSara Adams Centeno is a dynamic educator\, author\, speaker\, and thought leader who loves to move people with proven strategies for creating success. With over a decade of classroom experience\, she's an expert in the field\, and currently teaches Student Success at Ivy Tech Community College in Indiana.\n\n\n\nSuccess: The Ultimate Guide to College\, Career\, and Personal Excellence sparks the reader's intrinsic motivation to unleash their full potential by implementing research based strategies in metacognition\, effective communication\, goal setting\, time management\, growth mindset\, wellness\, stress reduction\, and emotional intelligence.\n\n\n\nFor more information please contact: Jessie Hubble\, jhubble5@ivytech.edu
X-ALT-DESC;FMTTYPE=text/html:Sara Centeno will be signing copies of her book\, &quot\;Success the Ultimate Guide to College\, Career\, &amp\; Personal Excellence&quot\;<br />\n<br />\nSara Adams Centeno is a dynamic educator\, author\, speaker\, and thought leader who loves to move people with proven strategies for creating success. With over a decade of classroom experience\, she&rsquo\;s an expert in the field\, and currently teaches Student Success at Ivy Tech Community College in Indiana.<br />\n<br />\nSuccess: The Ultimate Guide to College\, Career\, and Personal Excellence sparks the reader&#39\;s intrinsic motivation to unleash their full potential by implementing research based strategies in metacognition\, effective communication\, goal setting\, time management\, growth mindset\, wellness\, stress reduction\, and emotional intelligence.<br />\n<br />\nFor more information please contact: Jessie Hubble\, jhubble5@ivytech.edu<br />\n&nbsp\;
LOCATION:Ivy Tech Community College Community Center 22531 County Road 18 Goshen\, IN 46528
UID:e.689.16723
SEQUENCE:3
DTSTAMP:20260425T122824Z
URL:https://business.goshen.org/events/details/sara-centeno-will-be-signing-copies-of-her-book-success-the-ultimate-guide-to-college-career-personal-excellence-16723
END:VEVENT

END:VCALENDAR
