BEGIN:VCALENDAR
VERSION:2.0
PRODID:-//ChamberMaster//Event Calendar 2.0//EN
METHOD:PUBLISH
X-PUBLISHED-TTL:P3D
REFRESH-INTERVAL:P3D
CALSCALE:GREGORIAN
BEGIN:VEVENT
DTSTART:20161125T160000Z
DTEND:20161225T000000Z
X-MICROSOFT-CDO-ALLDAYEVENT:FALSE
SUMMARY:Santa's Winter Wonderland Visits and Photos
DESCRIPTION:Enjoy Santa's Winter Wonderland\, visit with Santa from Nov. 25 thru Dec. 24 and get your special Santa & Me Photo. Santa's Hours: Mon-Sat 11a-2:30p and 3:30-7p\; Sun 12:30-5p\; Christmas Eve Day 11a-5p. Photo Packages\, Holiday Greeting Cards\, Musical Photo Globes\, Holiday Photo Frames\, Photo Tree Ornaments and so much more!
X-ALT-DESC;FMTTYPE=text/html:<div>Enjoy Santa&#39\;s Winter Wonderland\, visit with Santa from Nov. 25 thru Dec. 24 and get your special Santa &amp\; Me Photo. Santa&#39\;s Hours: Mon-Sat 11a-2:30p and 3:30-7p\; Sun 12:30-5p\; Christmas Eve Day 11a-5p. Photo Packages\, Holiday Greeting Cards\, Musical Photo Globes\, Holiday Photo Frames\, Photo Tree Ornaments and so much more!</div>\n
LOCATION:Concord Mall 3701 S. Main Street Elkhart\, IN 46517 574-875-6502
UID:e.689.16288
SEQUENCE:3
DTSTAMP:20260425T173938Z
URL:https://business.goshen.org/events/details/santa-s-winter-wonderland-visits-and-photos-16288
END:VEVENT

END:VCALENDAR
