BEGIN:VCALENDAR
VERSION:2.0
PRODID:-//ChamberMaster//Event Calendar 2.0//EN
METHOD:PUBLISH
X-PUBLISHED-TTL:P3D
REFRESH-INTERVAL:P3D
CALSCALE:GREGORIAN
BEGIN:VEVENT
DTSTART:20161119T160000Z
DTEND:20161119T191500Z
X-MICROSOFT-CDO-ALLDAYEVENT:FALSE
SUMMARY:Santa's Surprise Visit & Storybook Parade
DESCRIPTION:Concord Mall celebrates Santa's Surprise Visit\, a special one day event! Ziynne (Kid of Pop) will perform from 11a-Noon. Silly Safaris' Reindeer Reserve Show starring Snowstorm Steve and animals of the North Pole at 12:30p. Santa and Mrs. Claus will arrive at 1p\, kids are invited to dress in their favorite storybook character and join Santa in the Storybook Parade! And you can meet Snowstorm Steve and his LIVE Reindeer from 1:15-2:00p. Santa will be available for visits and photos until 6p and will return to the mall on Friday\, November 25 at 11a. Come spend the day and enjoy the fun with your family at Concord Mall!
X-ALT-DESC;FMTTYPE=text/html:<div>Concord Mall celebrates Santa&#39\;s Surprise Visit\, a special one day event! Ziynne (Kid of Pop) will perform from 11a-Noon. Silly Safaris&#39\; Reindeer Reserve Show starring Snowstorm Steve and animals of the North Pole at 12:30p. Santa and Mrs. Claus will arrive at 1p\, kids are invited to dress in their favorite storybook character and join Santa in the Storybook Parade! And you can meet Snowstorm Steve and his LIVE Reindeer from 1:15-2:00p. Santa will be available for visits and photos until 6p and will return to the mall on Friday\, November 25 at 11a. Come spend the day and enjoy the fun with your family at Concord Mall!</div>\n
LOCATION:Concord Mall 3701 S. Main Street Elkhart\, IN 46517 574-875-6502
UID:e.689.16283
SEQUENCE:3
DTSTAMP:20260425T190433Z
URL:https://business.goshen.org/events/details/santa-s-surprise-visit-storybook-parade-16283
END:VEVENT

END:VCALENDAR
