BEGIN:VCALENDAR
VERSION:2.0
PRODID:-//ChamberMaster//Event Calendar 2.0//EN
METHOD:PUBLISH
X-PUBLISHED-TTL:P3D
REFRESH-INTERVAL:P3D
CALSCALE:GREGORIAN
BEGIN:VEVENT
DTSTART:20171118T180000Z
DTEND:20171118T220000Z
X-MICROSOFT-CDO-ALLDAYEVENT:FALSE
SUMMARY:Santa's Surprise Visit and Parade
DESCRIPTION:Concord Mall celebrates Santa's Surprise Visit\, a special one day event!  Silly Safaris' Reindeer Reserve Show starring Snowstorm Steve and animals of the North Pole will be at the center court stage at 12:30p.  Santa and Mrs. Claus will arrive at 1p\, kids are invited to join Santa in the Parade!  You can meet Snowstorm Steve and his LIVE Reindeer from 1:15-2:00p. Santa will be available for visits and photos from 2-5p and will return to the mall on Friday\, November 24 at 1:00p. Come spend the day and enjoy the fun with your family at Concord Mall!
X-ALT-DESC;FMTTYPE=text/html:Concord Mall celebrates Santa&#39\;s Surprise Visit\, a special one day event!&nbsp\; Silly Safaris&#39\; Reindeer Reserve Show starring Snowstorm Steve and animals of the North Pole will be at the center court stage at 12:30p.&nbsp\; Santa and Mrs. Claus will arrive at 1p\, kids are invited to join Santa in the Parade!&nbsp\; You can meet Snowstorm Steve and his LIVE Reindeer from 1:15-2:00p. Santa will be available for visits and photos from 2-5p and will return to the mall on Friday\, November 24 at 1:00p. Come spend the day and enjoy the fun with your family at Concord Mall!
LOCATION:Concord Mall 3701 S. Main Street Elkhart\, IN 46517 574-875-6502
UID:e.689.17444
SEQUENCE:3
DTSTAMP:20260424T231242Z
URL:https://business.goshen.org/events/details/santa-s-surprise-visit-and-parade-17444
END:VEVENT

END:VCALENDAR
