BEGIN:VCALENDAR
VERSION:2.0
PRODID:-//ChamberMaster//Event Calendar 2.0//EN
METHOD:PUBLISH
X-PUBLISHED-TTL:P3D
REFRESH-INTERVAL:P3D
CALSCALE:GREGORIAN
BEGIN:VEVENT
DTSTART:20161111T163000Z
DTEND:20161111T180000Z
X-MICROSOFT-CDO-ALLDAYEVENT:FALSE
SUMMARY:Salvation Army Red Kettle Kickoff
DESCRIPTION:The Salvation Army Advisory Board welcomes the 2016 Red Kettle Drive Sponsors.
X-ALT-DESC;FMTTYPE=text/html:The Salvation Army Advisory Board welcomes the 2016 Red Kettle Drive Sponsors.&nbsp\;
LOCATION:Concord Mall 3701 S. Main Street Elkhart\, IN 46517 574-875-6502
UID:e.689.16281
SEQUENCE:3
DTSTAMP:20260425T190304Z
URL:https://business.goshen.org/events/details/salvation-army-red-kettle-kickoff-16281
END:VEVENT

END:VCALENDAR
