BEGIN:VCALENDAR
VERSION:2.0
PRODID:-//ChamberMaster//Event Calendar 2.0//EN
METHOD:PUBLISH
X-PUBLISHED-TTL:P3D
REFRESH-INTERVAL:P3D
CALSCALE:GREGORIAN
BEGIN:VEVENT
DTSTART:20180414T140000Z
DTEND:20180414T203000Z
X-MICROSOFT-CDO-ALLDAYEVENT:FALSE
SUMMARY:Safe Sitter
DESCRIPTION:Safe Sitter Designed to prepare students in grades 6-8 to be safe when they're home alone\, watching younger siblings\, or babysitting. The instructor-led class is filled with fun games and role-playing exercises. Students even get to use manikins to practice rescue skills like choking rescue and CPR!
X-ALT-DESC;FMTTYPE=text/html:Safe Sitter Designed to prepare students in grades 6-8 to be safe when they&rsquo\;re home alone\, watching younger siblings\, or babysitting. The instructor-led class is filled with fun games and role-playing exercises. Students even get to use manikins to practice rescue skills like choking rescue and CPR!
LOCATION:Goshen Hospital Birch/Walnut Rooms 200 High Park Avenue Goshen\, IN 46526
UID:e.689.17708
SEQUENCE:3
DTSTAMP:20260424T153324Z
URL:https://business.goshen.org/events/details/safe-sitter-17708
END:VEVENT

END:VCALENDAR
