BEGIN:VCALENDAR
VERSION:2.0
PRODID:-//ChamberMaster//Event Calendar 2.0//EN
METHOD:PUBLISH
X-PUBLISHED-TTL:P3D
REFRESH-INTERVAL:P3D
CALSCALE:GREGORIAN
BEGIN:VEVENT
DTSTART:20180521T220000Z
DTEND:20180521T233000Z
X-MICROSOFT-CDO-ALLDAYEVENT:FALSE
SUMMARY:RX: In the know
DESCRIPTION:Find out how your diabetes medication helps you feel better. Join Goshen Health on Monday\, May 21\, from 6:00   7:30 p.m. on the second floor of Goshen Heart & Vascular Center. This free class will help you learn about medications used to treat diabetes\, when to take them and how your diabetes medication can help prevent or delay complications. This class is recommended for adults with diabetes and their family members. No registration for the class is required. For more information\, please call (574) 364-2746.
X-ALT-DESC;FMTTYPE=text/html:Find out how your diabetes medication helps you feel better. Join Goshen Health on Monday\, May 21\, from 6:00 &ndash\; 7:30 p.m. on the second floor of Goshen Heart &amp\; Vascular Center. This free class will help you learn about medications used to treat diabetes\, when to take them and how your diabetes medication can help prevent or delay complications. This class is recommended for adults with diabetes and their family members. No registration for the class is required. For more information\, please call (574) 364-2746.
LOCATION:Heart & Vascular\, Wellness Classroom\, 2nd floor 1855 S. Main Street\, Suite C Goshen\, IN 46526
UID:e.689.17771
SEQUENCE:3
DTSTAMP:20260424T133905Z
URL:https://business.goshen.org/events/details/rx-in-the-know-17771
END:VEVENT

END:VCALENDAR
