BEGIN:VCALENDAR
VERSION:2.0
PRODID:-//ChamberMaster//Event Calendar 2.0//EN
METHOD:PUBLISH
X-PUBLISHED-TTL:P3D
REFRESH-INTERVAL:P3D
CALSCALE:GREGORIAN
BEGIN:VEVENT
DTSTART:20160908T220000Z
DTEND:20160909T010000Z
X-MICROSOFT-CDO-ALLDAYEVENT:FALSE
SUMMARY:Running with Spoons - Good Cooking for a Great Cause
DESCRIPTION:Bashor Children's Home presents Running with Spoons! On Thursday\, September 8\, some of the biggest names in our community will be will be battling it out for the best tasting dish! Local "celebrities"\, as our chefs\, will prepare a one of their very own food specialties for "tasting". Voting will be available online beginning two weeks before and during the event. At the end of the evening the first ever Bashor Celebrity Chef winner will be announced. The competition is getting fierce among our chefs\, guaranteeing a night you won't want to miss! All of the proceeds from Running with Spoons will go to support Bashor provide Help for Today and Hope for Tomorrow to children and teens in our community. See you on September 8th for some Good Cooking for a Great Cause!
X-ALT-DESC;FMTTYPE=text/html:Bashor Children&#39\;s Home presents Running with Spoons! On Thursday\, September 8\, some of the biggest names in our community will be will be battling it out for the best tasting dish! Local &ldquo\;celebrities&rdquo\;\, as our chefs\, will prepare a one of their very own food specialties for &ldquo\;tasting&rdquo\;. Voting will be available online beginning two weeks before and during the event. At the end of the evening the first ever Bashor Celebrity Chef winner will be announced. The competition is getting fierce among our chefs\, guaranteeing a night you won&rsquo\;t want to miss! All of the proceeds from Running with Spoons will go to support Bashor provide Help for Today and Hope for Tomorrow to children and teens in our community. See you on September 8th for some Good Cooking for a Great Cause!
LOCATION:Elcona Country Club
UID:e.689.16010
SEQUENCE:3
DTSTAMP:20260425T222409Z
URL:https://business.goshen.org/events/details/running-with-spoons-good-cooking-for-a-great-cause-09-08-2016-16010
END:VEVENT

END:VCALENDAR
