BEGIN:VCALENDAR
VERSION:2.0
PRODID:-//ChamberMaster//Event Calendar 2.0//EN
METHOD:PUBLISH
X-PUBLISHED-TTL:P3D
REFRESH-INTERVAL:P3D
CALSCALE:GREGORIAN
BEGIN:VEVENT
DTSTART:20190905T220000Z
DTEND:20190906T010000Z
X-MICROSOFT-CDO-ALLDAYEVENT:FALSE
SUMMARY:Running with Spoons
DESCRIPTION:A culinary masterpiece featuring 15 local business leaders showcasing their favorite food dish to share.
X-ALT-DESC;FMTTYPE=text/html:A culinary masterpiece featuring 15 local business leaders showcasing their favorite food dish to share.
LOCATION:Crystal Ballroom at the Lerner Theater
UID:e.689.19968
SEQUENCE:3
DTSTAMP:20260423T070905Z
URL:https://business.goshen.org/events/details/running-with-spoons-19968
END:VEVENT

END:VCALENDAR
