BEGIN:VCALENDAR
VERSION:2.0
PRODID:-//ChamberMaster//Event Calendar 2.0//EN
METHOD:PUBLISH
X-PUBLISHED-TTL:P3D
REFRESH-INTERVAL:P3D
CALSCALE:GREGORIAN
BEGIN:VEVENT
DTSTART:20200903T220000Z
DTEND:20200904T020000Z
X-MICROSOFT-CDO-ALLDAYEVENT:FALSE
SUMMARY:Running with Spoons
DESCRIPTION:Good Cooking for a Great Cause This year Bashor Children's Home is raising funds to build a 34 bed facility for female victims of human trafficking. Local celebrity chefs will prepare tasty dishes. Guests will be given a chance to vote for their favorite and the Bashor Celebrity Chef winner will be announced.
X-ALT-DESC;FMTTYPE=text/html:Good Cooking for a Great Cause This year Bashor Children&#39\;s Home is raising funds to build a 34 bed facility for female victims of human trafficking. Local celebrity chefs will prepare tasty dishes. Guests will be given a chance to vote for their favorite and the Bashor Celebrity Chef winner will be announced.
LOCATION:Crystal Ballroom at the Lerner Theatre
UID:e.689.20972
SEQUENCE:3
DTSTAMP:20260422T094713Z
URL:https://business.goshen.org/events/details/running-with-spoons-09-03-2020-20972
END:VEVENT

END:VCALENDAR
