BEGIN:VCALENDAR
VERSION:2.0
PRODID:-//ChamberMaster//Event Calendar 2.0//EN
METHOD:PUBLISH
X-PUBLISHED-TTL:P3D
REFRESH-INTERVAL:P3D
CALSCALE:GREGORIAN
BEGIN:VEVENT
DTSTART:20190505T003000Z
DTEND:20190505T023000Z
X-MICROSOFT-CDO-ALLDAYEVENT:FALSE
SUMMARY:Rudy Love and the Love Family
DESCRIPTION:Concert | Rudy Love & The Love Family SATURDAY\, MAY 4 | 8:30 p.m. The Goshen Theater $20 Concert Pass or VIP Pass Natives of Wichita\, Kansas\, Rudy Love and The Love Family have been bringing their signature soulful music to audiences in the Midwest and around the world for the last four decades. Coming from a family of 17 brothers and sisters influenced by their father Robert Love\, who had an extensive career touring the country as a performing musician with noted gospel and R&B artist\, it was only natural to form a band. During the 60's and 70's Rudy Love and The Love Family worked with an array of Motown artist and even gained famed with Sly & The Family Stone. As a soloist Rudy Love toured in Europe and Asia and received several accolades including a platinum record. Rudy Love & The Love Family was also featured on Jay Z's American Gangster album. The documentary based on Rudy's story will be screening Friday at 7:30 p.m. at the Goshen Theater.
X-ALT-DESC;FMTTYPE=text/html:Concert | Rudy Love &amp\; The Love Family SATURDAY\, MAY 4 | 8:30 p.m. The Goshen Theater $20 Concert Pass or VIP Pass Natives of Wichita\, Kansas\, Rudy Love and The Love Family have been bringing their signature soulful music to audiences in the Midwest and around the world for the last four decades. Coming from a family of 17 brothers and sisters influenced by their father Robert Love\, who had an extensive career touring the country as a performing musician with noted gospel and R&amp\;B artist\, it was only natural to form a band. During the 60&rsquo\;s and 70&rsquo\;s Rudy Love and The Love Family worked with an array of Motown artist and even gained famed with Sly &amp\; The Family Stone. As a soloist Rudy Love toured in Europe and Asia and received several accolades including a platinum record. Rudy Love &amp\; The Love Family was also featured on Jay Z&rsquo\;s American Gangster album. The documentary based on Rudy&#39\;s story will be screening Friday at 7:30 p.m. at the Goshen Theater.
LOCATION:The Goshen Theater 216 S Main St Goshen\, IN 46526
UID:e.689.19234
SEQUENCE:3
DTSTAMP:20260423T150401Z
URL:https://business.goshen.org/events/details/rudy-love-and-the-love-family-19234
END:VEVENT

END:VCALENDAR
