BEGIN:VCALENDAR
VERSION:2.0
PRODID:-//ChamberMaster//Event Calendar 2.0//EN
METHOD:PUBLISH
X-PUBLISHED-TTL:P3D
REFRESH-INTERVAL:P3D
CALSCALE:GREGORIAN
BEGIN:VEVENT
DTSTART:20210916T220000Z
DTEND:20210917T000000Z
X-MICROSOFT-CDO-ALLDAYEVENT:FALSE
SUMMARY:Rubber Stamp Carving Workshop
DESCRIPTION:Join us for a stamp carving adventure where we'll learn the ins and outs of carving your own rubber stamps. These rubber stamps are perfect for scrapbooks\, cards\, art journaling and mixed media.\n\n\n\nMaterials provided. You get to take hand-carved stamps home with you along with any test prints you make.\n\nRecommended age: 13 years and up\n\n\n\nSign up for the workshop at www.theimaginationspot.com or in person at The Imagination Spot in downtown Goshen.
X-ALT-DESC;FMTTYPE=text/html:Join us for a stamp carving adventure where we&#39\;ll learn the ins and outs of carving your own rubber stamps. These rubber stamps are perfect for scrapbooks\, cards\, art journaling and mixed media.<br />\n<br />\nMaterials provided. You get to take hand-carved stamps home with you along with any test prints you make.<br />\nRecommended age: 13 years and up<br />\n<br />\nSign up for the workshop at www.theimaginationspot.com or in person at The Imagination Spot in downtown Goshen.
LOCATION:The Imagination Spot 111 E Washington St. Goshen\, IN 46528
UID:e.689.22657
SEQUENCE:3
DTSTAMP:20260421T131513Z
URL:https://business.goshen.org/events/details/rubber-stamp-carving-workshop-22657
END:VEVENT

END:VCALENDAR
