BEGIN:VCALENDAR
VERSION:2.0
PRODID:-//ChamberMaster//Event Calendar 2.0//EN
METHOD:PUBLISH
X-PUBLISHED-TTL:P3D
REFRESH-INTERVAL:P3D
CALSCALE:GREGORIAN
BEGIN:VEVENT
DTSTART:20181024T113000Z
DTEND:20181024T170000Z
X-MICROSOFT-CDO-ALLDAYEVENT:FALSE
SUMMARY:RSM Executive Summit
DESCRIPTION:Please join us on Wednesday\, Oct. 24\, as we explore key questions and issues that businesses are facing during these uncertain times. We will address the evolving political and economic landscape in a post-tax reform environment\, as well as how to drive innovation and growth in today's business climate and how to position your company as a leader for future growth. RSM US LLP is pleased to offer up to five CPE credits for attending this event.
X-ALT-DESC;FMTTYPE=text/html:Please join us on Wednesday\, Oct. 24\, as we explore key questions and issues that businesses are facing during these uncertain times. We will address the evolving political and economic landscape in a post-tax reform environment\, as well as how to drive innovation and growth in today&rsquo\;s business climate and how to position your company as a leader for future growth. RSM US LLP is pleased to offer up to five CPE credits for attending this event.
LOCATION:Duncan Student Center University of Notre Dame Notre Dame\, IN 46556
UID:e.689.18242
SEQUENCE:3
DTSTAMP:20260424T022151Z
URL:https://business.goshen.org/events/details/rsm-executive-summit-18242
END:VEVENT

END:VCALENDAR
