BEGIN:VCALENDAR
VERSION:2.0
PRODID:-//ChamberMaster//Event Calendar 2.0//EN
METHOD:PUBLISH
X-PUBLISHED-TTL:P3D
REFRESH-INTERVAL:P3D
CALSCALE:GREGORIAN
BEGIN:VEVENT
DTSTART:20180611T133000Z
DTEND:20180615T160000Z
X-MICROSOFT-CDO-ALLDAYEVENT:FALSE
SUMMARY:Rolling River Rampage Vacation Bible School
DESCRIPTION:Harvest Community Church invites children ages 4   5th grade to experience the ride of a lifetime with God at Rolling River Rampage Vacation Bible School! This white water rafting adventure includes exciting new music\, amazing science\, creative crafts\, fun recreation\, and memorable bible stories that will help children know God is always with them as they ride the rapids of life! The adventure runs from June 11 through June 15\, from 9:30 a.m.   noon\, right here at Harvest Community Church. Register your children for this amazing week by visiting https://www.hccgoshen.org/vbs. Registration is open!
X-ALT-DESC;FMTTYPE=text/html:Harvest Community Church invites children ages 4 &ndash\; 5th grade to experience the ride of a lifetime with God at Rolling River Rampage Vacation Bible School! This white water rafting adventure includes exciting new music\, amazing science\, creative crafts\, fun recreation\, and memorable bible stories that will help children know God is always with them as they ride the rapids of life! The adventure runs from June 11 through June 15\, from 9:30 a.m. &ndash\; noon\, right here at Harvest Community Church. Register your children for this amazing week by visiting https://www.hccgoshen.org/vbs. Registration is open!
LOCATION:Harvest Community Church 17285 CR 34 Goshen\, IN 46528
UID:e.689.17840
SEQUENCE:3
DTSTAMP:20260424T134059Z
URL:https://business.goshen.org/events/details/rolling-river-rampage-vacation-bible-school-17840
END:VEVENT

END:VCALENDAR
