BEGIN:VCALENDAR
VERSION:2.0
PRODID:-//ChamberMaster//Event Calendar 2.0//EN
METHOD:PUBLISH
X-PUBLISHED-TTL:P3D
REFRESH-INTERVAL:P3D
CALSCALE:GREGORIAN
BEGIN:VEVENT
DTSTART:20190817T120000Z
DTEND:20190817T160000Z
X-MICROSOFT-CDO-ALLDAYEVENT:FALSE
SUMMARY:Rock the Quarry Triathlon & Mile Swim
DESCRIPTION:The Goshen Parks & Recreation Department is excited to host the 5th Annual Rock the Quarry Triathlon and Mile Swim scheduled for Saturday\, August 17\, 2019! The event is held at the beautiful Fidler Pond Park located at 1424 Lincolnway E. in Goshen\, Indiana. Formerly a rock quarry\, the pond will be open to the public for this sprint triathlon and mile swim\, which is the only day of the year people are permitted to swim in the quarry. The triathlon is USAT sanctioned and consists of a 500-yard swim\, 15.8-mile bike ride and a 3.1 mile run. The mile swim event is an open water rectangular course beginning and ending near the same point. It is our goal to provide a premiere event in Goshen that draws athletes from nearby cities and states\, their friends\, families and spectators. In 2018\, Rock the Quarry attracted 225 participants who represented 61 cities and 9 states. This is truly a destination event! Participants can view additional details or register online at www.rockthequarrytriathlon.com. For more information\, please contact the Goshen Parks & Recreation Department at 574-534-2901.
X-ALT-DESC;FMTTYPE=text/html:The Goshen Parks &amp\; Recreation Department is excited to host the 5th Annual Rock the Quarry Triathlon and Mile Swim scheduled for Saturday\, August 17\, 2019! The event is held at the beautiful Fidler Pond Park located at 1424 Lincolnway E. in Goshen\, Indiana. Formerly a rock quarry\, the pond will be open to the public for this sprint triathlon and mile swim\, which is the only day of the year people are permitted to swim in the quarry. The triathlon is USAT sanctioned and consists of a 500-yard swim\, 15.8-mile bike ride and a 3.1 mile run. The mile swim event is an open water rectangular course beginning and ending near the same point. It is our goal to provide a premiere event in Goshen that draws athletes from nearby cities and states\, their friends\, families and spectators. In 2018\, Rock the Quarry attracted 225 participants who represented 61 cities and 9 states. This is truly a destination event! Participants can view additional details or register online at www.rockthequarrytriathlon.com. For more information\, please contact the Goshen Parks &amp\; Recreation Department at 574-534-2901.
LOCATION:Fidler Pond Park 1424 Lincolnway E. Goshen\, IN 46526
UID:e.689.19199
SEQUENCE:3
DTSTAMP:20260423T091512Z
URL:https://business.goshen.org/events/details/rock-the-quarry-triathlon-mile-swim-19199
END:VEVENT

END:VCALENDAR
