BEGIN:VCALENDAR
VERSION:2.0
PRODID:-//ChamberMaster//Event Calendar 2.0//EN
METHOD:PUBLISH
X-PUBLISHED-TTL:P3D
REFRESH-INTERVAL:P3D
CALSCALE:GREGORIAN
BEGIN:VEVENT
DTSTART:20180411T150000Z
DTEND:20180411T213000Z
X-MICROSOFT-CDO-ALLDAYEVENT:FALSE
SUMMARY:Ribbon Cutting Ceremony and Open House
DESCRIPTION:Pur Bliss Medispa in Goshen is proud to host our grand opening community event april 11\, 2018 from 11am unitl 530pm. We'll have a ribbon cutting ceremony and light refreshments along with a guided tour of the facility. Dr. Shelley Morris and our medical staff will be on hand to answer any questions that you may have and schedule free skin health consultations. Stop by and learn the many ways we can help you discover your best skin health. All attendess will be entered into a drawing for a free Laser Skin Treatment.
X-ALT-DESC;FMTTYPE=text/html:Pur Bliss Medispa in Goshen is proud to host our grand opening community event april 11\, 2018 from 11am unitl 530pm. We&#39\;ll have a ribbon cutting ceremony and light refreshments along with a guided tour of the facility. Dr. Shelley Morris and our medical staff will be on hand to answer any questions that you may have and schedule free skin health consultations. Stop by and learn the many ways we can help you discover your best skin health. All attendess will be entered into a drawing for a free Laser Skin Treatment.&nbsp\;
LOCATION:1716 Elkhart Rd. Goshen\, IN 46526
UID:e.689.17766
SEQUENCE:3
DTSTAMP:20260424T153704Z
URL:https://business.goshen.org/events/details/ribbon-cutting-ceremony-and-open-house-17766
END:VEVENT

END:VCALENDAR
