BEGIN:VCALENDAR
VERSION:2.0
PRODID:-//ChamberMaster//Event Calendar 2.0//EN
METHOD:PUBLISH
X-PUBLISHED-TTL:P3D
REFRESH-INTERVAL:P3D
CALSCALE:GREGORIAN
BEGIN:VEVENT
DTSTART:20180803T203000Z
DTEND:20180803T230000Z
X-MICROSOFT-CDO-ALLDAYEVENT:FALSE
SUMMARY:Retirement Open House for Larry Gautsche
DESCRIPTION:Please join us in honoring Lacasa's retiring president/CEO Larry Gautsche\, who has served as CEO for 17 years\, for a public open house. The open house will be held on Friday\, August 3 from 4:30   7 pm at Gaining Grounds Coffee House\, 114 E Lincoln Ave\, Goshen\, IN 46528. \n\n\n\nSenator Blake Doriot and Mayor of Goshen Jeremy Stutsman will be in attendance to present Gautsche with a state and local award at 5:30 pm.
X-ALT-DESC;FMTTYPE=text/html:<span style="color:rgb(29\, 33\, 41)\; font-family:system-ui\,-apple-system\,system-ui\,.sfnstext-regular\,sans-serif\; font-size:14px">Please join us in honoring Lacasa&rsquo\;s retiring president/CEO Larry Gautsche\, who has served as CEO for 17 years\, for a public open house. The open house will be held on Friday\, August 3 from 4:30 &ndash\; 7 pm at Gaining Grounds Coffee House\, 114 E Lincoln Ave\, Goshen\, IN 46528.&nbsp\;</span><br />\n<br />\n<span style="color:rgb(29\, 33\, 41)\; font-family:system-ui\,-apple-system\,system-ui\,.sfnstext-regular\,sans-serif\; font-size:14px">Senator Blake Doriot and Mayor of Goshen Jeremy Stutsman will be in attendance to present Gautsche with a state and local award at 5:30 pm.</span>
LOCATION:ADEC's Gaining Grounds Coffee House 114 E Lincoln Ave\, Goshen\, IN 46528
UID:e.689.17894
SEQUENCE:3
DTSTAMP:20260424T092737Z
URL:https://business.goshen.org/events/details/retirement-open-house-for-larry-gautsche-17894
END:VEVENT

END:VCALENDAR
