BEGIN:VCALENDAR
VERSION:2.0
PRODID:-//ChamberMaster//Event Calendar 2.0//EN
METHOD:PUBLISH
X-PUBLISHED-TTL:P3D
REFRESH-INTERVAL:P3D
CALSCALE:GREGORIAN
BEGIN:VEVENT
DTSTART:20170309T170000Z
DTEND:20170309T180000Z
X-MICROSOFT-CDO-ALLDAYEVENT:FALSE
SUMMARY:Respiratory Care Information Session
DESCRIPTION:Respiratory Care Info Session \n\nLearn more:\n\n  A career overview\n\n  Application packet\n\n  Detailed instructions on application process\n\n  Explanation of required pre-requisite courses \n\n\n\nFor additional information please contact: \n\n\n\nSusan Pearson\, MPA\, RRT\n\nProgram Chair\n\n574-830-0375 ext. 6375\n\nspearson12@ivytech.edu. (Preferred)\n\n\n\nDeb Nicholson\, BS\, RRT\n\nDirector of Clinical Education\n\n574-830-0375 ext. 5724\n\ndnicholson46@ivytech.edu (Preferred)
X-ALT-DESC;FMTTYPE=text/html:<strong><span style="color:#222222"><span style="font-family:arial\,sans-serif"><span style="font-size:12.0pt">Respiratory Care Info Session </span></span></span></strong><br />\n<span style="color:#222222"><span style="font-family:arial\,sans-serif"><span style="font-size:10.0pt">Learn more:<br />\n&bull\; A career overview<br />\n&bull\; Application packet<br />\n&bull\; Detailed instructions on application process<br />\n&bull\; Explanation of required pre-requisite courses </span></span></span><br />\n<br />\nFor additional information please contact:&nbsp\;<br />\n<br />\nSusan Pearson\, MPA\, RRT<br />\nProgram Chair<br />\n574-830-0375 ext. 6375<br />\n<a href="mailto:spearson12@ivytech.edu">spearson12@ivytech.edu</a>. (Preferred)<br />\n<br />\nDeb Nicholson\, BS\, RRT<br />\nDirector of Clinical Education<br />\n574-830-0375 ext. 5724<br />\n<a href="mailto:dnicholson46@ivytech.edu">dnicholson46@ivytech.edu</a> (Preferred)
LOCATION:Ivy Tech Community College 22531 County Road 18 Goshen\, IN 46528 Room 302
UID:e.689.16712
SEQUENCE:3
DTSTAMP:20260425T122418Z
URL:https://business.goshen.org/events/details/respiratory-care-information-session-16712
END:VEVENT

END:VCALENDAR
