BEGIN:VCALENDAR
VERSION:2.0
PRODID:-//ChamberMaster//Event Calendar 2.0//EN
METHOD:PUBLISH
X-PUBLISHED-TTL:P3D
REFRESH-INTERVAL:P3D
CALSCALE:GREGORIAN
BEGIN:VEVENT
DTSTART:20190504T223000Z
DTEND:20190505T003000Z
X-MICROSOFT-CDO-ALLDAYEVENT:FALSE
SUMMARY:RBFF Presents: Spare Room
DESCRIPTION:When a young widow rents a room to a mysterious veteran\, their attraction sparks unforeseen circumstances. Followed by a Q&A with producer James Portolese. $12 block ticket\, Saturday pass\, or weekend pass.
X-ALT-DESC;FMTTYPE=text/html:When a young widow rents a room to a mysterious veteran\, their attraction sparks unforeseen circumstances. Followed by a Q&amp\;A with producer James Portolese. $12 block ticket\, Saturday pass\, or weekend pass.
LOCATION:Goshen Art House 211 S Main Street\, 2nd Floor\, Goshen\, IN 46526
UID:e.689.19240
SEQUENCE:3
DTSTAMP:20260423T150010Z
URL:https://business.goshen.org/events/details/rbff-presents-spare-room-19240
END:VEVENT

END:VCALENDAR
