BEGIN:VCALENDAR
VERSION:2.0
PRODID:-//ChamberMaster//Event Calendar 2.0//EN
METHOD:PUBLISH
X-PUBLISHED-TTL:P3D
REFRESH-INTERVAL:P3D
CALSCALE:GREGORIAN
BEGIN:VEVENT
DTSTART:20190502T233000Z
DTEND:20190503T013000Z
X-MICROSOFT-CDO-ALLDAYEVENT:FALSE
SUMMARY:RBFF Presents: Don't Be Nice
DESCRIPTION:Documentary Feature followed by Q&A with Producer Nikhil Melnechuk. Don't Be Nice A team of young New York City Slam Poets finds its voice as it competes for the National Championship during the summer of 2016. $12 block ticket or a weekend pass.
X-ALT-DESC;FMTTYPE=text/html:Documentary Feature followed by Q&amp\;A with Producer Nikhil Melnechuk. Don&#39\;t Be Nice A team of young New York City Slam Poets finds its voice as it competes for the National Championship during the summer of 2016. $12 block ticket or a weekend pass.
LOCATION:The Goshen Theater 216 S. Main Street\, Goshen\, IN 46526
UID:e.689.19239
SEQUENCE:3
DTSTAMP:20260423T163622Z
URL:https://business.goshen.org/events/details/rbff-presents-don-t-be-nice-19239
END:VEVENT

END:VCALENDAR
