BEGIN:VCALENDAR
VERSION:2.0
PRODID:-//ChamberMaster//Event Calendar 2.0//EN
METHOD:PUBLISH
X-PUBLISHED-TTL:P3D
REFRESH-INTERVAL:P3D
CALSCALE:GREGORIAN
BEGIN:VEVENT
DTSTART:20170504T220000Z
DTEND:20170504T233000Z
X-MICROSOFT-CDO-ALLDAYEVENT:FALSE
SUMMARY:Rain Garden & Rain Barrel Workshop
DESCRIPTION:If you live in Elkhart\, Goshen\, Bristol\, or unincorporated areas of Elkhart County you may be eligible for reimbursement from the Greater Elkhart County Stormwater Partnership for the installation of native plants (up to $250) in a rain garden or up to $50 for a rain barrel (maximum of two per residence). Applications are available at bit.ly/RGRBprogram and you must first attend a Rain Garden and Rain Barrel workshop and turn in an application before you can receive any reimbursement.
X-ALT-DESC;FMTTYPE=text/html:If you live in Elkhart\, Goshen\, Bristol\, or unincorporated areas of Elkhart County you may be eligible for reimbursement from the Greater Elkhart County Stormwater Partnership for the installation of native plants (up to $250) in a rain garden or up to $50 for a rain barrel (maximum of two per residence). Applications are available at bit.ly/RGRBprogram and you must first attend a Rain Garden and Rain Barrel workshop and turn in an application before you can receive any reimbursement.
LOCATION:Ox Bow Haus\, Ox Bow County Park located at the intersection of CR 15 and CR 45
UID:e.689.16754
SEQUENCE:3
DTSTAMP:20260425T103949Z
URL:https://business.goshen.org/events/details/rain-garden-rain-barrel-workshop-16754
END:VEVENT

END:VCALENDAR
