BEGIN:VCALENDAR
VERSION:2.0
PRODID:-//ChamberMaster//Event Calendar 2.0//EN
METHOD:PUBLISH
X-PUBLISHED-TTL:P3D
REFRESH-INTERVAL:P3D
CALSCALE:GREGORIAN
BEGIN:VEVENT
DTSTART:20170331T140000Z
DTEND:20170402T220000Z
X-MICROSOFT-CDO-ALLDAYEVENT:FALSE
SUMMARY:Race-A-Rama
DESCRIPTION:The 12th Annual Race-A-Rama Car Show will be at Concord Mall March 31-April 2 during mall hours\, featuring Stock Cars\, Classics\, Muscle Cars\, Show Cars and Hot Rods.  Plus a 20\,000 piece racing photo and memorabilia collection.  See stars from the 50's\, 60's and 70's. For more information contact Ron Verash at 574-300-9386 or www.stockcarextreme.com.
X-ALT-DESC;FMTTYPE=text/html:The 12th Annual Race-A-Rama Car Show will be at Concord Mall March 31-April 2 during mall hours\,&nbsp\;featuring Stock Cars\, Classics\, Muscle Cars\, Show Cars and Hot Rods.&nbsp\; Plus a 20\,000 piece racing photo and memorabilia collection.&nbsp\; See stars from the 50&#39\;s\, 60&#39\;s and 70&#39\;s. For more information contact Ron Verash at 574-300-9386 or <a href="http://www.stockcarextreme.com">www.stockcarextreme.com</a>.
LOCATION:Concord Mall 3701 S. Main Street Elkhart\, IN 46517 574-875-6502
UID:e.689.16728
SEQUENCE:3
DTSTAMP:20260425T104012Z
URL:https://business.goshen.org/events/details/race-a-rama-16728
END:VEVENT

END:VCALENDAR
