BEGIN:VCALENDAR
VERSION:2.0
PRODID:-//ChamberMaster//Event Calendar 2.0//EN
METHOD:PUBLISH
X-PUBLISHED-TTL:P3D
REFRESH-INTERVAL:P3D
CALSCALE:GREGORIAN
BEGIN:VEVENT
DTSTART:20190718T220000Z
DTEND:20190719T000000Z
X-MICROSOFT-CDO-ALLDAYEVENT:FALSE
SUMMARY:Quentin Flagg's Live Show
DESCRIPTION:Quentin Flagg's 50's/60's & More Rock 'n' Roll Show!Live performance! Food vendors & shopping!
X-ALT-DESC;FMTTYPE=text/html:Quentin Flagg&#39\;s 50&#39\;s/60&#39\;s &amp\; More Rock &#39\;n&#39\; Roll Show!Live performance! Food vendors &amp\; shopping!
LOCATION:Southgate Crossing 22751 Co. Rd. 26 Elkhart\, IN
UID:e.689.19610
SEQUENCE:3
DTSTAMP:20260423T105552Z
URL:https://business.goshen.org/events/details/quentin-flagg-s-live-show-19610
END:VEVENT

END:VCALENDAR
