BEGIN:VCALENDAR
VERSION:2.0
PRODID:-//ChamberMaster//Event Calendar 2.0//EN
METHOD:PUBLISH
X-PUBLISHED-TTL:P3D
REFRESH-INTERVAL:P3D
CALSCALE:GREGORIAN
BEGIN:VEVENT
DTSTART:20190829T220000Z
DTEND:20190830T000000Z
X-MICROSOFT-CDO-ALLDAYEVENT:FALSE
SUMMARY:Quentin Flagg's 50's/60's & More Rock 'n' Roll Show!
DESCRIPTION:Quentin Flagg's 50's/60's & More Rock 'n' Roll Show! Live performance! Food vendors & shopping!
X-ALT-DESC;FMTTYPE=text/html:Quentin Flagg&#39\;s 50&#39\;s/60&#39\;s &amp\; More Rock &#39\;n&#39\; Roll Show! Live performance! Food vendors &amp\; shopping!
LOCATION:Southgate Crossing 22751 Co. Rd. 26 Elkhart\, IN
UID:e.689.19616
SEQUENCE:3
DTSTAMP:20260421T153817Z
URL:https://business.goshen.org/events/details/quentin-flagg-s-50-s-60-s-more-rock-n-roll-show-08-29-2019-19616
END:VEVENT

END:VCALENDAR
