BEGIN:VCALENDAR
VERSION:2.0
PRODID:-//ChamberMaster//Event Calendar 2.0//EN
METHOD:PUBLISH
X-PUBLISHED-TTL:P3D
REFRESH-INTERVAL:P3D
CALSCALE:GREGORIAN
BEGIN:VEVENT
DTSTART:20161022T170000Z
DTEND:20161022T180000Z
X-MICROSOFT-CDO-ALLDAYEVENT:FALSE
SUMMARY:Pumpkin Fest
DESCRIPTION:T.A.G. Art Company presents the Pumpkin Princess! Come in costume and bring your cameras to have your photo with the Pumpkin Princess. Enjoy a FREE balloon from the talented Balloon Twister. FREE Face Painting will also be available. Don't leave without your Pumpkin Decorating Kit(free while supplies last)or bring your own pumpkin and decorate it here!
X-ALT-DESC;FMTTYPE=text/html:T.A.G. Art Company presents the Pumpkin Princess! Come in costume and bring your cameras to have your photo with the Pumpkin Princess. Enjoy a FREE balloon from the talented Balloon Twister. FREE Face Painting will also be available. Don&#39\;t leave without your Pumpkin Decorating Kit(free while supplies last)or bring your own pumpkin and decorate it here!
LOCATION:Concord Mall 3701 S. Main Street Elkhart\, IN 46517 574-875-6502
UID:e.689.16229
SEQUENCE:3
DTSTAMP:20260425T202420Z
URL:https://business.goshen.org/events/details/pumpkin-fest-16229
END:VEVENT

END:VCALENDAR
