BEGIN:VCALENDAR
VERSION:2.0
PRODID:-//ChamberMaster//Event Calendar 2.0//EN
METHOD:PUBLISH
X-PUBLISHED-TTL:P3D
REFRESH-INTERVAL:P3D
CALSCALE:GREGORIAN
BEGIN:VEVENT
DTSTART:20180322T220000Z
DTEND:20180322T233000Z
X-MICROSOFT-CDO-ALLDAYEVENT:FALSE
SUMMARY:PROACTIVE DIABETES CLASS
DESCRIPTION:Attend this informative class for adults to learn more about nutrition\, weight loss and stress management. If you have any of the following risk factors\, you are welcome to attend this informative and free class.   Family history of heart disease or diabetes   Physically inactive or overweight   Prediabetic or insulin resistant   Previous gestational diabetes   High blood pressure or high cholesterol To register\, visit GoshenHealth.com/Find-Events. For more information please call (574) 364-2746.
X-ALT-DESC;FMTTYPE=text/html:Attend this informative class for adults to learn more about nutrition\, weight loss and stress management. If you have any of the following risk factors\, you are welcome to attend this informative and free class. &bull\; Family history of heart disease or diabetes &bull\; Physically inactive or overweight &bull\; Prediabetic or insulin resistant &bull\; Previous gestational diabetes &bull\; High blood pressure or high cholesterol To register\, visit GoshenHealth.com/Find-Events. For more information please call (574) 364-2746.
LOCATION:Goshen Heart & Vascular\, Wellness Center\, on the 2nd floor 1855 South Main St. Goshen\, IN 46526
UID:e.689.17701
SEQUENCE:3
DTSTAMP:20260424T171413Z
URL:https://business.goshen.org/events/details/proactive-diabetes-class-03-22-2018-17701
END:VEVENT

END:VCALENDAR
