BEGIN:VCALENDAR
VERSION:2.0
PRODID:-//ChamberMaster//Event Calendar 2.0//EN
METHOD:PUBLISH
X-PUBLISHED-TTL:P3D
REFRESH-INTERVAL:P3D
CALSCALE:GREGORIAN
BEGIN:VEVENT
DTSTART:20160502T110000Z
DTEND:20160502T200000Z
X-MICROSOFT-CDO-ALLDAYEVENT:FALSE
SUMMARY:Priority Registration for Summer Dance Class
DESCRIPTION:The perfect seven-week introduction to dance for new students\, as well as a great refresher course for returning dancers! Priority registration begins for returning dancers May 2\, and open registration for new students begins May 9. Register at the Parks Office\, 607 W. Plymouth Avenue\, Goshen\; Monday - Friday\; 7am - 4pm. Classes will meet on Wednesdays\, June 15?July 27 at our downtown dance studio\, 216 S. Main Street. Class instructed by Tricia Blosser. 3?4 years: 4:30?5 pm\, Creative Dance\, $48 4?5 years: 5:15?6 pm\, Dance Sampler\, $64 6?8 years: 6:15?7:15 pm\, Ballet/Modern\, $80 https://www.facebook.com/events/866926966787313/
X-ALT-DESC;FMTTYPE=text/html:The perfect seven-week introduction to dance for new students\, as well as a great refresher course for returning dancers! Priority registration begins for returning dancers May 2\, and open registration for new students begins May 9. Register at the Parks Office\, 607 W. Plymouth Avenue\, Goshen\; Monday - Friday\; 7am - 4pm. Classes will meet on Wednesdays\, June 15?July 27 at our downtown dance studio\, 216 S. Main Street. Class instructed by Tricia Blosser. 3?4 years: 4:30?5 pm\, Creative Dance\, $48 4?5 years: 5:15?6 pm\, Dance Sampler\, $64 6?8 years: 6:15?7:15 pm\, Ballet/Modern\, $80 https://www.facebook.com/events/866926966787313/
LOCATION:Goshen Parks & Recreation Office 607 W. Plymouth Avenue\, Goshen
UID:e.689.15833
SEQUENCE:3
DTSTAMP:20260426T035447Z
URL:https://business.goshen.org/events/details/priority-registration-for-summer-dance-class-05-02-2016-15833
END:VEVENT

END:VCALENDAR
