BEGIN:VCALENDAR
VERSION:2.0
PRODID:-//ChamberMaster//Event Calendar 2.0//EN
METHOD:PUBLISH
X-PUBLISHED-TTL:P3D
REFRESH-INTERVAL:P3D
CALSCALE:GREGORIAN
BEGIN:VEVENT
DTSTART:20160705T110000Z
DTEND:20160705T200000Z
X-MICROSOFT-CDO-ALLDAYEVENT:FALSE
SUMMARY:Priority Registration for Dance Classes (Session II)
DESCRIPTION:Priority registration for returning dancers begins July 5\, and open registration begins July 18. Register at the Parks Office\, 607 W. Plymouth Avenue\, Monday-Friday\, 7am-4pm. Session I classes begin August 15. Classes meet for 12 weeks at the downtown Goshen Theater. Classes will not meet September 5 or October 17?20. Creative Dance This is a class for children who are age 3 by August 1 and age 4. Class will focus on creative dance movement\, including learning to follow rhythm\, mirroring technique and improvisation. Dance Sampler A class for students ages 4 and 5. It will cover dance warmups\, stretching and beginning technique for Jazz\, Ballet and Modern. This class is great for children who are aspiring gymnasts\, building ballerinas or for those who simply love to move with music. Pre-Ballet/Modern This class is for students ages 5?6. Class will combine classical and modern ballet technique. This is a great blend of dance for young students that will provide a fun and flexible platform of dance expression. Modern/Ballet Students will learn age-adjusted ballet and modern dance technique. Your child will learn proper body alignment and develop flexibility\, coordination and grace. Your child will also experience applying their own movement thoughts to the art of improvisation. Classes will generate the joy of dance and appreciation for beauty\, as well as build well-balanced\, healthy respect and discipline. The difficulty level will increase with Beginning Modern II and Intermediate Modern. Modern/Ballet for Children with Special Needs This class will contain the same elements as Modern/Ballet. Students will learn the vocabulary of modern and ballet with sensitivity to dancers? needs. Class will evolve according to the progression of the class. Please speak with instructor regarding enrollment. -------------------------------------------------------------- Programas de Danza para J venes: El registro prioritario para bailarines que regresan a clase comienza el 5 de julio\, y las inscripciones abiertas comienzan el 18 de julio. Sesi n I comienza la semana del 15 de agosto. Las clases reunen por 12 semanas. Las clases no se realizar n el 5 de septiembre o 17?20 de octubre. Danza Creativa Esta es una clase para los ni os que son 3 a os de edad el 1 de agosto y la edad 4. Clase se centrar  en el movimiento de la danza creativa\, incluyendo aprender a seguir el ritmo\, la t cnica de replicaci n y la improvisaci n. Muestra de Danza Una clase para los estudiantes entre las edades de 4 y 5 a os de edad. Clase de baile consistir  en ejercicios de calentamiento\, estiramiento y aprendizaje de la t cnica para el jazz\, ballet y danza moderna. Esta clase es estupendo para los ni os que aspiran a ser gimnastas\, bailarinas o para los ni os que aman a moverse con la m sica. Pre-Ballet/Moderna Esta clase es para estudiantes edades de 5-6. Clase combinar  la t cnica del ballet cl sico y moderno. Esta es una gran mezcla de baile para j venes estudiantes que proporcionar n una diversi n y una plataforma flexible de expresi n de la danza. Moderna/Ballet Los alumnos aprender n el vocabulario del ballet y la danza moderna\, con  nfasis en estilos contempor neos como Graham\, Limon\, Hawkins y Cunningham. Su hijo aprender  la alineaci n adecuada del cuerpo y desarrollar  flexibilidad\, coordinaci n y gracia. Las clases generar n el gozo de la danza\, la apreciaci n est tica\, as  como fortalecer n un respeto y disciplina bien equilibrado y saludable. El nivel de dificultad aumentar  con Moderna para Principiantes II y Moderna para Intermedios. Moderna/Ballet (para ni os con necesidades especiales) Esta clase contiene los mismos elementos que la Moderna/ Ballet. Los alumnos aprender n el vocabulario de la danza moderna y el ballet\, con especial sensibilidad a las necesidades del bailar n. La clase evolucionar  con respecto al progreso. Favor de hablar con la instructora con respecto a la colocaci n e inscripci n.
X-ALT-DESC;FMTTYPE=text/html:Priority registration for returning dancers begins July 5\, and open registration begins July 18. Register at the Parks Office\, 607 W. Plymouth Avenue\, Monday-Friday\, 7am-4pm. Session I classes begin August 15. Classes meet for 12 weeks at the downtown Goshen Theater. Classes will not meet September 5 or October 17?20. Creative Dance This is a class for children who are age 3 by August 1 and age 4. Class will focus on creative dance movement\, including learning to follow rhythm\, mirroring technique and improvisation. Dance Sampler A class for students ages 4 and 5. It will cover dance warmups\, stretching and beginning technique for Jazz\, Ballet and Modern. This class is great for children who are aspiring gymnasts\, building ballerinas or for those who simply love to move with music. Pre-Ballet/Modern This class is for students ages 5?6. Class will combine classical and modern ballet technique. This is a great blend of dance for young students that will provide a fun and flexible platform of dance expression. Modern/Ballet Students will learn age-adjusted ballet and modern dance technique. Your child will learn proper body alignment and develop flexibility\, coordination and grace. Your child will also experience applying their own movement thoughts to the art of improvisation. Classes will generate the joy of dance and appreciation for beauty\, as well as build well-balanced\, healthy respect and discipline. The difficulty level will increase with Beginning Modern II and Intermediate Modern. Modern/Ballet for Children with Special Needs This class will contain the same elements as Modern/Ballet. Students will learn the vocabulary of modern and ballet with sensitivity to dancers? needs. Class will evolve according to the progression of the class. Please speak with instructor regarding enrollment. -------------------------------------------------------------- Programas de Danza para J&oacute\;venes: El registro prioritario para bailarines que regresan a clase comienza el 5 de julio\, y las inscripciones abiertas comienzan el 18 de julio. Sesi&oacute\;n I comienza la semana del 15 de agosto. Las clases reunen por 12 semanas. Las clases no se realizar&aacute\;n el 5 de septiembre o 17?20 de octubre. Danza Creativa Esta es una clase para los ni&ntilde\;os que son 3 a&ntilde\;os de edad el 1 de agosto y la edad 4. Clase se centrar&aacute\; en el movimiento de la danza creativa\, incluyendo aprender a seguir el ritmo\, la t&eacute\;cnica de replicaci&oacute\;n y la improvisaci&oacute\;n. Muestra de Danza Una clase para los estudiantes entre las edades de 4 y 5 a&ntilde\;os de edad. Clase de baile consistir&aacute\; en ejercicios de calentamiento\, estiramiento y aprendizaje de la t&eacute\;cnica para el jazz\, ballet y danza moderna. Esta clase es estupendo para los ni&ntilde\;os que aspiran a ser gimnastas\, bailarinas o para los ni&ntilde\;os que aman a moverse con la m&uacute\;sica. Pre-Ballet/Moderna Esta clase es para estudiantes edades de 5-6. Clase combinar&aacute\; la t&eacute\;cnica del ballet cl&aacute\;sico y moderno. Esta es una gran mezcla de baile para j&oacute\;venes estudiantes que proporcionar&aacute\;n una diversi&oacute\;n y una plataforma flexible de expresi&oacute\;n de la danza. Moderna/Ballet Los alumnos aprender&aacute\;n el vocabulario del ballet y la danza moderna\, con &eacute\;nfasis en estilos contempor&aacute\;neos como Graham\, Limon\, Hawkins y Cunningham. Su hijo aprender&aacute\; la alineaci&oacute\;n adecuada del cuerpo y desarrollar&aacute\; flexibilidad\, coordinaci&oacute\;n y gracia. Las clases generar&aacute\;n el gozo de la danza\, la apreciaci&oacute\;n est&eacute\;tica\, as&iacute\; como fortalecer&aacute\;n un respeto y disciplina bien equilibrado y saludable. El nivel de dificultad aumentar&aacute\; con Moderna para Principiantes II y Moderna para Intermedios. Moderna/Ballet (para ni&ntilde\;os con necesidades especiales) Esta clase contiene los mismos elementos que la Moderna/ Ballet. Los alumnos aprender&aacute\;n el vocabulario de la danza moderna y el ballet\, con especial sensibilidad a las necesidades del bailar&iacute\;n. La clase evolucionar&aacute\; con respecto al progreso. Favor de hablar con la instructora con respecto a la colocaci&oacute\;n e inscripci&oacute\;n.
LOCATION:Goshen Parks & Recreation 607 W. Plymouth Avenue
UID:e.689.15916
SEQUENCE:3
DTSTAMP:20260426T004417Z
URL:https://business.goshen.org/events/details/priority-registration-for-dance-classes-session-ii-07-05-2016-15916
END:VEVENT

END:VCALENDAR
