BEGIN:VCALENDAR
VERSION:2.0
PRODID:-//ChamberMaster//Event Calendar 2.0//EN
METHOD:PUBLISH
X-PUBLISHED-TTL:P3D
REFRESH-INTERVAL:P3D
CALSCALE:GREGORIAN
BEGIN:VEVENT
DTSTART:20171027T220000Z
DTEND:20171028T000000Z
X-MICROSOFT-CDO-ALLDAYEVENT:FALSE
SUMMARY:Power of Pink Purse Sale
DESCRIPTION:The Power of Pink is in your purse! Join us\, Friday\, October 27 as the stage of The Goshen Theater comes alive for our first-ever Power of Pink Purse Sale\, raising money for United Cancer Services of Elkhart County. Donate your gently-used purse by October 23 at The Goshen News or any Goshen Interra Credit Union location and get a chance to win a new Michael Kors\, Coach\, Gucci or Vera Bradley Purse! Receive one entry for each purse you donate and then\, join us October 27 as we have a night of fun\, food\, shopping and surprises. What kind of surprises? Imagine the theater stage filled with quality purses\, and some new name-brand selections as well. Pop-Up shops from Boho Pretty\, Woldruff's Footwear and Fashion\, Jasmine Wall and other local venders with everything from soaps to sleepwear. Purchase your $20 ticket online at elkhartcancer.org and get $5 off at-the-door admission. Once inside earn a chance to win any number of designer purses. It will be a night to remember\, with hundreds of purses to peruse and pop-up stores galore at the Power of Pink Purse Sale. Get your tickets today!
X-ALT-DESC;FMTTYPE=text/html:The Power of Pink is in your purse! Join us\, Friday\, October 27 as the stage of The Goshen Theater comes alive for our first-ever Power of Pink Purse Sale\, raising money for United Cancer Services of Elkhart County. Donate your gently-used purse by October 23 at The Goshen News or any Goshen Interra Credit Union location and get a chance to win a new Michael Kors\, Coach\, Gucci or Vera Bradley Purse! Receive one entry for each purse you donate and then\, join us October 27 as we have a night of fun\, food\, shopping and surprises. What kind of surprises? Imagine the theater stage filled with quality purses\, and some new name-brand selections as well. Pop-Up shops from Boho Pretty\, Woldruff&rsquo\;s Footwear and Fashion\, Jasmine Wall and other local venders with everything from soaps to sleepwear. Purchase your $20 ticket online at elkhartcancer.org and get $5 off at-the-door admission. Once inside earn a chance to win any number of designer purses. It will be a night to remember\, with hundreds of purses to peruse and pop-up stores galore at the Power of Pink Purse Sale. Get your tickets today!
LOCATION:Goshen Theater
UID:e.689.17435
SEQUENCE:3
DTSTAMP:20260425T005441Z
URL:https://business.goshen.org/events/details/power-of-pink-purse-sale-17435
END:VEVENT

END:VCALENDAR
