BEGIN:VCALENDAR
VERSION:2.0
PRODID:-//ChamberMaster//Event Calendar 2.0//EN
METHOD:PUBLISH
X-PUBLISHED-TTL:P3D
REFRESH-INTERVAL:P3D
CALSCALE:GREGORIAN
BEGIN:VEVENT
DTSTART:20190908T200000Z
DTEND:20190908T220000Z
X-MICROSOFT-CDO-ALLDAYEVENT:FALSE
SUMMARY:Pops at The Wellfield
DESCRIPTION:Come enjoy an afternoon at the Wellfield Botanic Gardens with a concert filled with light classics and movie favorites! The gardens will open at 2:30 with an "instrument petting zoo." The "zoo" is an opportunity for music lovers of all ages to try out a variety of musical instruments   you don't have to be a pro to play! Food and drinks will be available for purchase. Chairs will be available under the tent\, or attendees are invited to bring their own lawn chairs.
X-ALT-DESC;FMTTYPE=text/html:Come enjoy an afternoon at the Wellfield Botanic Gardens with a concert filled with light classics and movie favorites! The gardens will open at 2:30 with an &ldquo\;instrument petting zoo.&rdquo\; The &ldquo\;zoo&rdquo\; is an opportunity for music lovers of all ages to try out a variety of musical instruments &ndash\; you don&rsquo\;t have to be a pro to play! Food and drinks will be available for purchase. Chairs will be available under the tent\, or attendees are invited to bring their own lawn chairs.
LOCATION:Wellfield Botanic Gardens
UID:e.689.20378
SEQUENCE:3
DTSTAMP:20260423T070926Z
URL:https://business.goshen.org/events/details/pops-at-the-wellfield-20378
END:VEVENT

END:VCALENDAR
