BEGIN:VCALENDAR
VERSION:2.0
PRODID:-//ChamberMaster//Event Calendar 2.0//EN
METHOD:PUBLISH
X-PUBLISHED-TTL:P3D
REFRESH-INTERVAL:P3D
CALSCALE:GREGORIAN
BEGIN:VEVENT
DTSTART:20171211T230000Z
DTEND:20171212T000000Z
X-MICROSOFT-CDO-ALLDAYEVENT:FALSE
SUMMARY:Pet Photos with Santa
DESCRIPTION:You and your pet are invited to have photos taken with Santa.  All pets must be on a leash.
X-ALT-DESC;FMTTYPE=text/html:You and your pet are invited to have photos taken with Santa.&nbsp\; All pets must be on a leash.
LOCATION:Concord Mall 3701 S. Main Street ?Elkhart\, IN 46517 574-875-6502
UID:e.689.17608
SEQUENCE:3
DTSTAMP:20260424T215033Z
URL:https://business.goshen.org/events/details/pet-photos-with-santa-17608
END:VEVENT

END:VCALENDAR
