BEGIN:VCALENDAR
VERSION:2.0
PRODID:-//ChamberMaster//Event Calendar 2.0//EN
METHOD:PUBLISH
X-PUBLISHED-TTL:P3D
REFRESH-INTERVAL:P3D
CALSCALE:GREGORIAN
BEGIN:VEVENT
DTSTART:20170128T160000Z
DTEND:20170128T170000Z
X-MICROSOFT-CDO-ALLDAYEVENT:FALSE
SUMMARY:People of Elkhart: E. Hill Turnock
DESCRIPTION:You may have walked past the works of E. Hill Turnock and not even noticed. Learn about how the architect left his mark on Elkhart County and some of the iconic buildings he designed through the county.
X-ALT-DESC;FMTTYPE=text/html:You may have walked past the works of E. Hill Turnock and not even noticed. Learn about how the architect left his mark on Elkhart County and some of the iconic buildings he designed through the county.
LOCATION:Elkhart County Historical Museum\, 304 W. Vistula St.\, Bristol\, IN 46507
UID:e.689.16208
SEQUENCE:3
DTSTAMP:20260425T154605Z
URL:https://business.goshen.org/events/details/people-of-elkhart-e-hill-turnock-16208
END:VEVENT

END:VCALENDAR
