BEGIN:VCALENDAR
VERSION:2.0
PRODID:-//ChamberMaster//Event Calendar 2.0//EN
METHOD:PUBLISH
X-PUBLISHED-TTL:P3D
REFRESH-INTERVAL:P3D
CALSCALE:GREGORIAN
BEGIN:VEVENT
DTSTART:20170218T160000Z
DTEND:20170218T170000Z
X-MICROSOFT-CDO-ALLDAYEVENT:FALSE
SUMMARY:People of Elkhart: Charles Gordone
DESCRIPTION:Born in Cleveland\, but raised in the city of Elkhart\, Gordone was the first African-American to win a Pulitzer Prize for drama. Learn about the man as an actor\, playwright\, and director and his efforts to achieve racial unity through the arts.
X-ALT-DESC;FMTTYPE=text/html:Born in Cleveland\, but raised in the city of Elkhart\, Gordone was the first African-American to win a Pulitzer Prize for drama. Learn about the man as an actor\, playwright\, and director and his efforts to achieve racial unity through the arts.
LOCATION:Elkhart County Historical Museum- 304 W. Vistula St.\, Bristol\, IN 46507
UID:e.689.16209
SEQUENCE:3
DTSTAMP:20260425T141245Z
URL:https://business.goshen.org/events/details/people-of-elkhart-charles-gordone-16209
END:VEVENT

END:VCALENDAR
