BEGIN:VCALENDAR
VERSION:2.0
PRODID:-//ChamberMaster//Event Calendar 2.0//EN
METHOD:PUBLISH
X-PUBLISHED-TTL:P3D
REFRESH-INTERVAL:P3D
CALSCALE:GREGORIAN
BEGIN:VEVENT
DTSTART:20200905T120000Z
DTEND:20200905T133000Z
X-MICROSOFT-CDO-ALLDAYEVENT:FALSE
SUMMARY:Outrunning Hunger 5k
DESCRIPTION:Outrunning Hunger 5k is a great hometown 5k that starts in Shanklin Park and runs the Millrace to the Dam\, makes a loop in Shoup-Parsons Woods and comes back on the Millrace. Date: Saturday\, September 5\, 2020 Time: 8am Location: Starts in Shanklin Park Pace: Runners and Walkers are welcome! This race supports the ministries of The Window in Goshen. The Window's mission statement is to provide services to meet the essential needs of anyone with a limited income. The Window feeds and clothes many in the Goshen Community. The race website is: https://runsignup.com/Race/IN/Goshen/OutrunningHunger5k You can register online or in person. Race shirts are guaranteed for those that sign up by August 29\, 2020. Please consider supporting this race by signing up to run or calling The Window to sponsor the race!
X-ALT-DESC;FMTTYPE=text/html:Outrunning Hunger 5k is a great hometown 5k that starts in Shanklin Park and runs the Millrace to the Dam\, makes a loop in Shoup-Parsons Woods and comes back on the Millrace. Date: Saturday\, September 5\, 2020 Time: 8am Location: Starts in Shanklin Park Pace: Runners and Walkers are welcome! This race supports the ministries of The Window in Goshen. The Window&#39\;s mission statement is to provide services to meet the essential needs of anyone with a limited income. The Window feeds and clothes many in the Goshen Community. The race website is: https://runsignup.com/Race/IN/Goshen/OutrunningHunger5k You can register online or in person. Race shirts are guaranteed for those that sign up by August 29\, 2020. Please consider supporting this race by signing up to run or calling The Window to sponsor the race!
LOCATION:Shanklin Park
UID:e.689.20965
SEQUENCE:3
DTSTAMP:20260422T094545Z
URL:https://business.goshen.org/events/details/outrunning-hunger-5k-20965
END:VEVENT

END:VCALENDAR
