BEGIN:VCALENDAR
VERSION:2.0
PRODID:-//ChamberMaster//Event Calendar 2.0//EN
METHOD:PUBLISH
X-PUBLISHED-TTL:P3D
REFRESH-INTERVAL:P3D
CALSCALE:GREGORIAN
BEGIN:VEVENT
DTSTART:20170415T110000Z
DTEND:20170416T000000Z
X-MICROSOFT-CDO-ALLDAYEVENT:FALSE
SUMMARY:Outdoor Pickleball
DESCRIPTION:What is pickleball?! It is a sweet sport with a sour name\, a craze that is sweeping the nation. It combines many elements of tennis\, badminton\, and ping-pong. The game is played both indoors and outdoors on a badminton-size court\, with a slightly modified tennis net\, paddles and a plastic ball. Outdoor pickleball courts are located at Model Elementary School\, 412 S. Greene Road in Goshen (open April 15 through October 15\, depending on weather). Equipment rental is available at the Park Office\, $5/two paddles and a ball. Rules and procedures will be provided. For more information\, please contact the Park Office at 534-2901.
X-ALT-DESC;FMTTYPE=text/html:What is pickleball?! It is a sweet sport with a sour name\, a craze that is sweeping the nation. It combines many elements of tennis\, badminton\, and ping-pong. The game is played both indoors and outdoors on a badminton-size court\, with a slightly modified tennis net\, paddles and a plastic ball. Outdoor pickleball courts are located at Model Elementary School\, 412 S. Greene Road in Goshen (open April 15 through October 15\, depending on weather). Equipment rental is available at the Park Office\, $5/two paddles and a ball. Rules and procedures will be provided. For more information\, please contact the Park Office at 534-2901.
LOCATION:Model Elementary School\, 412 S. Greene Road in Goshen
UID:e.689.16613
SEQUENCE:3
DTSTAMP:20260425T104255Z
URL:https://business.goshen.org/events/details/outdoor-pickleball-16613
END:VEVENT

END:VCALENDAR
