BEGIN:VCALENDAR
VERSION:2.0
PRODID:-//ChamberMaster//Event Calendar 2.0//EN
METHOD:PUBLISH
X-PUBLISHED-TTL:P3D
REFRESH-INTERVAL:P3D
CALSCALE:GREGORIAN
BEGIN:VEVENT
DTSTART:20200516T233000Z
DTEND:20200517T020000Z
X-MICROSOFT-CDO-ALLDAYEVENT:FALSE
SUMMARY:Out of This World
DESCRIPTION:Come for an evening of intergalactic experiences beginning in the Milky Way and traveling to other galaxies far\, far away. Join the symphony for an exciting performance of Holst's "The Planets\," performed in sync with an outstanding video produced by Emmy-nominated astronomer Dr. Jose Francisco Salgado. The video includes seven high-definition short films produced to accompany performances of Holst's orchestral suite. Each of the films in this 50 minute critically acclaimed work includes awe-inspiring images of the featured planet\, historical illustrations\, space visualizations from NASA and the European Space Agency\, as well as animation by the film's director.
X-ALT-DESC;FMTTYPE=text/html:Come for an evening of intergalactic experiences beginning in the Milky Way and traveling to other galaxies far\, far away. Join the symphony for an exciting performance of Holst&#39\;s &quot\;The Planets\,&quot\; performed in sync with an outstanding video produced by Emmy-nominated astronomer Dr. Jose Francisco Salgado. The video includes seven high-definition short films produced to accompany performances of Holst&#39\;s orchestral suite. Each of the films in this 50 minute critically acclaimed work includes awe-inspiring images of the featured planet\, historical illustrations\, space visualizations from NASA and the European Space Agency\, as well as animation by the film&#39\;s director.
LOCATION:The Lerner Theatre
UID:e.689.20410
SEQUENCE:3
DTSTAMP:20260422T173529Z
URL:https://business.goshen.org/events/details/out-of-this-world-20410
END:VEVENT

END:VCALENDAR
