BEGIN:VCALENDAR
VERSION:2.0
PRODID:-//ChamberMaster//Event Calendar 2.0//EN
METHOD:PUBLISH
X-PUBLISHED-TTL:P3D
REFRESH-INTERVAL:P3D
CALSCALE:GREGORIAN
BEGIN:VEVENT
DTSTART:20160824T140000Z
DTEND:20160824T180000Z
X-MICROSOFT-CDO-ALLDAYEVENT:FALSE
SUMMARY:OUR CUSTOMERS ARE OUR STARS ? CUSTOMER APPRECIATION DAY!
DESCRIPTION:OUR CUSTOMERS ARE OUR STARS   CUSTOMER APPRECIATION DAY!\n\nWe're rolling out the red carpet on this day offering CPAP & Mobility tune-ups\, food\, prizes\, amazing deals and lots of fun!
X-ALT-DESC;FMTTYPE=text/html:<span style="font-family: calibri\;"><strong><span style="font-size: 10pt\;"><span style="color: rgb(192\, 0\, 0)\;">OUR CUSTOMERS ARE OUR STARS &ndash\; CUSTOMER APPRECIATION DAY!</span></span></strong></span><br />\n<span style="font-family: calibri\;"><span style="font-size: 10pt\;">We&rsquo\;re rolling out the red carpet on this day offering CPAP &amp\; Mobility tune-ups\, food\, prizes\, amazing deals and lots of fun! </span></span><br />\n&nbsp\;
LOCATION:IU Goshen Home Medical 1501 South Main Street Goshen\, IN 46526
UID:e.689.16164
SEQUENCE:3
DTSTAMP:20260425T233532Z
URL:https://business.goshen.org/events/details/our-customers-are-our-stars-customer-appreciation-day-08-24-2016-16164
END:VEVENT

END:VCALENDAR
