BEGIN:VCALENDAR
VERSION:2.0
PRODID:-//ChamberMaster//Event Calendar 2.0//EN
METHOD:PUBLISH
X-PUBLISHED-TTL:P3D
REFRESH-INTERVAL:P3D
CALSCALE:GREGORIAN
BEGIN:VEVENT
DTSTART:20180329T200000Z
DTEND:20180329T220000Z
X-MICROSOFT-CDO-ALLDAYEVENT:FALSE
SUMMARY:Open House at 418 S. 7th St
DESCRIPTION:Lacasa would like to cordially invite you to an open house for our second East Lincoln Crossroads Revitalization property\, 418 S 7th St in Goshen\, on Thursday\, March 29\, from 4:00   6:00 pm.\n\n \n\nThis project is taking 5 dilapidated\, unsafe multi-family properties and renovating them into attractive\, quality rental housing within walking distance of the downtown. It is a great example of how we work to invest in and revitalize neighborhoods.
X-ALT-DESC;FMTTYPE=text/html:<span style="font-family:open sans\,sans-serif"><span style="font-size:15.0pt">Lacasa would like to cordially invite you to an <strong>open house</strong> for our second East Lincoln Crossroads Revitalization property\, 418 S 7<sup>th</sup> St in Goshen\, on Thursday\, March 29\, from 4:00 &ndash\; 6:00 pm.</span></span><br />\n&nbsp\;<br />\n<span style="font-family:open sans\,sans-serif"><span style="font-size:12.0pt">This project is taking 5 dilapidated\, unsafe multi-family properties and renovating them into attractive\, quality rental housing within walking distance of the downtown. It is a great example of how we work to invest in and revitalize neighborhoods.</span></span>
LOCATION:418 S. 7th St Goshen\, IN 46526
UID:e.689.17763
SEQUENCE:3
DTSTAMP:20260424T171530Z
URL:https://business.goshen.org/events/details/open-house-at-418-s-7th-st-17763
END:VEVENT

END:VCALENDAR
