BEGIN:VCALENDAR
VERSION:2.0
PRODID:-//ChamberMaster//Event Calendar 2.0//EN
METHOD:PUBLISH
X-PUBLISHED-TTL:P3D
REFRESH-INTERVAL:P3D
CALSCALE:GREGORIAN
BEGIN:VEVENT
DTSTART:20181009T200000Z
DTEND:20181009T220000Z
X-MICROSOFT-CDO-ALLDAYEVENT:FALSE
SUMMARY:Open House - 213 S 7th St
DESCRIPTION:The third property in Lacasa's East Lincoln Crossroads Revitalization (ELCR) project is renovated and ready to be leased. Lacasa will celebrate this milestone with an open house at 213 S. 7th St. in Goshen on Tuesday\, October 9 from 4:00   6:00 pm. The public is invited to attend and see this beautifully renovated property.
X-ALT-DESC;FMTTYPE=text/html:<span style="color:rgb(29\, 33\, 41)\; font-family:system-ui\,-apple-system\,blinkmacsystemfont\,.sfnstext-regular\,sans-serif\; font-size:14px">The third property in Lacasa&rsquo\;s East Lincoln Crossroads Revitalization (ELCR) project is renovated and ready to be leased. Lacasa will celebrate this milestone with an open house at 213 S. 7th St. in Goshen on Tuesday\, October 9 from 4:00 &ndash\; 6:00 pm. The public is invited to attend and see this beautifully renovated property.</span>
LOCATION:213 S 7th St. Goshen\, IN 26528
UID:e.689.18234
SEQUENCE:3
DTSTAMP:20260424T044958Z
URL:https://business.goshen.org/events/details/open-house-213-s-7th-st-18234
END:VEVENT

END:VCALENDAR
