BEGIN:VCALENDAR
VERSION:2.0
PRODID:-//ChamberMaster//Event Calendar 2.0//EN
METHOD:PUBLISH
X-PUBLISHED-TTL:P3D
REFRESH-INTERVAL:P3D
CALSCALE:GREGORIAN
BEGIN:VEVENT
DTSTART;VALUE=DATE:20171006
DTEND;VALUE=DATE:20171007
TRANSP:TRANSPARENT
X-MICROSOFT-CDO-ALLDAYEVENT:TRUE
SUMMARY:October First Fridays Homecoming
DESCRIPTION:Ahh\, fall. What would this wonderful time of the year be without a homecoming celebration - complete with pumpkins\, harvest eats\, live music\, and dancing? Vibrant downtown Goshen offers all this and more at the annual October Homecoming event.
X-ALT-DESC;FMTTYPE=text/html:<span style="color:rgb(86\, 86\, 86)\; font-family:open sans\,sans-serif\; font-size:14.4px">Ahh\, fall. What would this wonderful time of the year be without a homecoming celebration - complete with pumpkins\, harvest eats\, live music\, and dancing? Vibrant downtown Goshen offers all this and more at the annual October Homecoming event.</span>
LOCATION:Downtown Goshen
UID:e.689.16841
SEQUENCE:3
DTSTAMP:20260425T023133Z
URL:https://business.goshen.org/events/details/october-first-fridays-homecoming-16841
END:VEVENT

END:VCALENDAR
