BEGIN:VCALENDAR
VERSION:2.0
PRODID:-//ChamberMaster//Event Calendar 2.0//EN
METHOD:PUBLISH
X-PUBLISHED-TTL:P3D
REFRESH-INTERVAL:P3D
CALSCALE:GREGORIAN
BEGIN:VEVENT
DTSTART:20180518T233000Z
DTEND:20180519T013000Z
X-MICROSOFT-CDO-ALLDAYEVENT:FALSE
SUMMARY:Oaklawn's 19th Annual Spring Spectacular
DESCRIPTION:Oaklawn is pleased to present author\, singer and television host Sheila Walsh at the 19th Annual Spring Spectacular! Walsh has sold more than 5 million books\, including "Loved Back to Life: How I Found the Courage to Live Free\," which details her struggle with clinical depression\, and "In the Middle of the Mess: Strength for this Beautiful\, Broken Life\," her most recent book. She's spoken to more than 5.5 million women across the world\, including as a long-time speaker for Women of Faith. Sheila is the co-host of the television show "Life Today\," which airs internationally\, and a former co-host of "The 700 Club." In 1992\, after four years co-hosting "The 700 Club\," the popular Christian talk-show\, Walsh left the show to admit herself to a psychiatric hospital to deal with not only her depressive feelings but also the death of her father at age 5. Amid a sinking feeling of despair\, she prayed for miraculous healing. But it did not come exactly the way she expected. It came one day at a time as God led her through a slow and steady journey of hope and recovery. Walsh will share life-changing insights from her life's journey and sing at the event which begins at 7:30 p.m. on Friday\, May 18\, at the Lerner Theatre in downtown Elkhart. For more information about becoming a sponsor of Spring Spectacular\, which includes a meet-and-greet with Walsh before the event\, contact Matt Lentsch at matt.lentsch@oaklawn.org or call 574-283-1234\, ext. 4647. Tickets: $25 The Lerner Theatre Box Office (574) 293-4469
X-ALT-DESC;FMTTYPE=text/html:Oaklawn is pleased to present author\, singer and television host Sheila Walsh at the 19th Annual Spring Spectacular! Walsh has sold more than 5 million books\, including &ldquo\;Loved Back to Life: How I Found the Courage to Live Free\,&rdquo\; which details her struggle with clinical depression\, and &ldquo\;In the Middle of the Mess: Strength for this Beautiful\, Broken Life\,&rdquo\; her most recent book. She&rsquo\;s spoken to more than 5.5 million women across the world\, including as a long-time speaker for Women of Faith. Sheila is the co-host of the television show &ldquo\;Life Today\,&rdquo\; which airs internationally\, and a former co-host of &ldquo\;The 700 Club.&rdquo\; In 1992\, after four years co-hosting &ldquo\;The 700 Club\,&rdquo\; the popular Christian talk-show\, Walsh left the show to admit herself to a psychiatric hospital to deal with not only her depressive feelings but also the death of her father at age 5. Amid a sinking feeling of despair\, she prayed for miraculous healing. But it did not come exactly the way she expected. It came one day at a time as God led her through a slow and steady journey of hope and recovery. Walsh will share life-changing insights from her life&rsquo\;s journey and sing at the event which begins at 7:30 p.m. on Friday\, May 18\, at the Lerner Theatre in downtown Elkhart. For more information about becoming a sponsor of Spring Spectacular\, which includes a meet-and-greet with Walsh before the event\, contact Matt Lentsch at matt.lentsch@oaklawn.org or call 574-283-1234\, ext. 4647. Tickets: $25 The Lerner Theatre Box Office (574) 293-4469
LOCATION:The Lerner 410 S Main St. Elkhart\, IN 46516
UID:e.689.17729
SEQUENCE:3
DTSTAMP:20260424T134326Z
URL:https://business.goshen.org/events/details/oaklawn-s-19th-annual-spring-spectacular-17729
END:VEVENT

END:VCALENDAR
