BEGIN:VCALENDAR
VERSION:2.0
PRODID:-//ChamberMaster//Event Calendar 2.0//EN
METHOD:PUBLISH
X-PUBLISHED-TTL:P3D
REFRESH-INTERVAL:P3D
CALSCALE:GREGORIAN
BEGIN:VEVENT
DTSTART;VALUE=DATE:20171103
DTEND;VALUE=DATE:20171104
TRANSP:TRANSPARENT
X-MICROSOFT-CDO-ALLDAYEVENT:TRUE
SUMMARY:November First Fridays Arts Tour
DESCRIPTION:Get your fix of fabulous original artwork during Goshen's annual Arts Tour. The tour will feature exhibits and performances by professional and student artists in downtown stores. You can purchase original art\, enjoy live music\, be wowed by dance and performances\, and shop at a variety of local shops.
X-ALT-DESC;FMTTYPE=text/html:<span style="color:rgb(86\, 86\, 86)\; font-family:open sans\,sans-serif\; font-size:14.4px">Get your fix of fabulous original artwork during Goshen&rsquo\;s annual Arts Tour. The tour will feature exhibits and performances by professional and student artists in downtown stores. You can purchase original art\, enjoy live music\, be wowed by dance and performances\, and shop at a variety of local shops.</span>
LOCATION:Downtown Goshen
UID:e.689.16842
SEQUENCE:3
DTSTAMP:20260424T231449Z
URL:https://business.goshen.org/events/details/november-first-fridays-arts-tour-16842
END:VEVENT

END:VCALENDAR
