BEGIN:VCALENDAR
VERSION:2.0
PRODID:-//ChamberMaster//Event Calendar 2.0//EN
METHOD:PUBLISH
X-PUBLISHED-TTL:P3D
REFRESH-INTERVAL:P3D
CALSCALE:GREGORIAN
BEGIN:VEVENT
DTSTART:20180608T140000Z
DTEND:20180608T143000Z
X-MICROSOFT-CDO-ALLDAYEVENT:FALSE
SUMMARY:NIBCO\, Inc. -Goshen Plant - Ribbon Cutting
DESCRIPTION:Please help us celebrate with NIBCO\, Inc. - Goshen Plant a Ribbon Cutting for their expansion of their facility!
X-ALT-DESC;FMTTYPE=text/html:<div style="text-align: center\;"><span style="font-size:22px\;">Please help us celebrate with NIBCO\, Inc. - Goshen Plant a Ribbon Cutting for their expansion of their facility!</span></div>\n
LOCATION:NIBCO\, Inc. - Goshen Plant 701 Eisenhower Drive North Goshen\, IN 46526 Right now our plan is to have anyone who is attending\, join us at the far Northeast parking lot and we will have the ceremony in front of the far North dock doors. Refreshments will follow the ceremony inside our new building 8.
UID:e.689.17820
SEQUENCE:3
DTSTAMP:20260424T134525Z
URL:https://business.goshen.org/events/details/nibco-inc-goshen-plant-ribbon-cutting-17820
END:VEVENT

END:VCALENDAR
