BEGIN:VCALENDAR
VERSION:2.0
PRODID:-//ChamberMaster//Event Calendar 2.0//EN
METHOD:PUBLISH
X-PUBLISHED-TTL:P3D
REFRESH-INTERVAL:P3D
CALSCALE:GREGORIAN
BEGIN:VEVENT
DTSTART:20171016T220000Z
DTEND:20171016T233000Z
X-MICROSOFT-CDO-ALLDAYEVENT:FALSE
SUMMARY:NEAT FEET FOOT CLINIC
DESCRIPTION:This program is a yearly foot seminar for those with diabetes\, to learn how to better care for your feet. Tips on buying shoes\, trimming toenails and daily foot care.
X-ALT-DESC;FMTTYPE=text/html:This program is a yearly foot seminar for those with diabetes\, to learn how to better care for your feet. Tips on buying shoes\, trimming toenails and daily foot care.
LOCATION:Goshen Heart & Vascular Center\, Wellness Center\, Second floor 1855 South Main St. Goshen\, IN 46526
UID:e.689.16689
SEQUENCE:3
DTSTAMP:20260425T005153Z
URL:https://business.goshen.org/events/details/neat-feet-foot-clinic-16689
END:VEVENT

END:VCALENDAR
