BEGIN:VCALENDAR
VERSION:2.0
PRODID:-//ChamberMaster//Event Calendar 2.0//EN
METHOD:PUBLISH
X-PUBLISHED-TTL:P3D
REFRESH-INTERVAL:P3D
CALSCALE:GREGORIAN
BEGIN:VEVENT
DTSTART:20161009T140000Z
DTEND:20161009T150000Z
X-MICROSOFT-CDO-ALLDAYEVENT:FALSE
SUMMARY:Nancy Honeytree In Concert
DESCRIPTION:Come hear the "First Lady of Jesus Music"\n\n\n\nEveryone Welcome!\n\n\n\nFor more information visit honeytree.org
X-ALT-DESC;FMTTYPE=text/html:<div style="text-align: center\;">Come hear the &quot\;First Lady of Jesus Music&quot\;<br />\n<br />\nEveryone Welcome!<br />\n<br />\nFor more information visit honeytree.org</div>\n
LOCATION:West Goshen Church of the Brethren 1200 Berkey Avenue Goshen\, IN
UID:e.689.16247
SEQUENCE:3
DTSTAMP:20260425T220516Z
URL:https://business.goshen.org/events/details/nancy-honeytree-in-concert-16247
END:VEVENT

END:VCALENDAR
