BEGIN:VCALENDAR
VERSION:2.0
PRODID:-//ChamberMaster//Event Calendar 2.0//EN
METHOD:PUBLISH
X-PUBLISHED-TTL:P3D
REFRESH-INTERVAL:P3D
CALSCALE:GREGORIAN
BEGIN:VEVENT
DTSTART:20160521T170000Z
DTEND:20160521T200000Z
X-MICROSOFT-CDO-ALLDAYEVENT:FALSE
SUMMARY:Mummphy's Book Signing - Vortigern Black
DESCRIPTION:Vortigern Black\, author of paranormal novels Telepathy and Tortured will be at Mummphy's Book Nook.
X-ALT-DESC;FMTTYPE=text/html:Vortigern Black\, author of paranormal novels Telepathy and Tortured will be at Mummphy&#39\;s Book Nook.&nbsp\;
LOCATION:Concord Mall\, 3701 S. Main Street\, Elkhart\, IN 46517
UID:e.689.15957
SEQUENCE:3
DTSTAMP:20260426T035923Z
URL:https://business.goshen.org/events/details/mummphy-s-book-signing-vortigern-black-05-21-2016-15957
END:VEVENT

END:VCALENDAR
