BEGIN:VCALENDAR
VERSION:2.0
PRODID:-//ChamberMaster//Event Calendar 2.0//EN
METHOD:PUBLISH
X-PUBLISHED-TTL:P3D
REFRESH-INTERVAL:P3D
CALSCALE:GREGORIAN
BEGIN:VEVENT
DTSTART:20161125T180000Z
DTEND:20161125T210000Z
X-MICROSOFT-CDO-ALLDAYEVENT:FALSE
SUMMARY:Mummphy's Book Signing - James Wylder
DESCRIPTION:Author\, James Wylder\, "Eloquence of Time and Space-50th Anniversary Dr. Who Poetry" will be hosting a book signing at Mummphy's Book Nook.
X-ALT-DESC;FMTTYPE=text/html:Author\, James Wylder\, &quot\;Eloquence of Time and Space-50th Anniversary Dr. Who Poetry&quot\; will be hosting a book signing at Mummphy&#39\;s Book Nook.
LOCATION:Concord Mall 3701 S. Main Street Elkhart\, IN 46517 574-875-6502
UID:e.689.16289
SEQUENCE:3
DTSTAMP:20260425T190439Z
URL:https://business.goshen.org/events/details/mummphy-s-book-signing-james-wylder-16289
END:VEVENT

END:VCALENDAR
