BEGIN:VCALENDAR
VERSION:2.0
PRODID:-//ChamberMaster//Event Calendar 2.0//EN
METHOD:PUBLISH
X-PUBLISHED-TTL:P3D
REFRESH-INTERVAL:P3D
CALSCALE:GREGORIAN
BEGIN:VEVENT
DTSTART:20170304T180000Z
DTEND:20170304T210000Z
X-MICROSOFT-CDO-ALLDAYEVENT:FALSE
SUMMARY:Mummphy's Book Signing - Author\, Adam Fleming
DESCRIPTION:Author\, Adam Fleming\, will be here signing "The Stetson Jeff Adventures Vol 1" on Saturday March 4th from 1-4p. He has also published "The Art of Motivational Listening" and "White Buffalo Gold" Adam lives in Goshen and is a life coach.
X-ALT-DESC;FMTTYPE=text/html:Author\, Adam Fleming\, will be here signing &quot\;The Stetson Jeff Adventures Vol 1&quot\; on Saturday March 4th from 1-4p. He has also published &quot\;The Art of Motivational Listening&quot\; and &quot\;White Buffalo Gold&quot\; Adam lives in Goshen and is a life coach.
LOCATION:Concord Mall 3701 S. Main Street Elkhart\, IN 46517 574-875-6502
UID:e.689.16679
SEQUENCE:3
DTSTAMP:20260425T122418Z
URL:https://business.goshen.org/events/details/mummphy-s-book-signing-author-adam-fleming-16679
END:VEVENT

END:VCALENDAR
