BEGIN:VCALENDAR
VERSION:2.0
PRODID:-//ChamberMaster//Event Calendar 2.0//EN
METHOD:PUBLISH
X-PUBLISHED-TTL:P3D
REFRESH-INTERVAL:P3D
CALSCALE:GREGORIAN
BEGIN:VEVENT
DTSTART:20190523T220000Z
DTEND:20190524T000000Z
X-MICROSOFT-CDO-ALLDAYEVENT:FALSE
SUMMARY:Mother-Son Superhero Dance
DESCRIPTION:Calling all superheroes! Mark your calendar and get your tickets for this lively evening for mothers and sons! This night out will include refreshments\, mementos and music provided by a professional DJ to help you dance the night away! Memory photos will be taken and available for purchase at the dance. The theme for the dance is "You Are My Superhero!" Tickets are $12.00 each and are sold in advance at the Park Office or online by clicking "Ticket Search" at the following link: https://bit.ly/2Ewnmc2 Seating is limited and fills quickly\, so please get your ticket early to ensure availability. Ticket sales will continue until capacity is reached.
X-ALT-DESC;FMTTYPE=text/html:Calling all superheroes! Mark your calendar and get your tickets for this lively evening for mothers and sons! This night out will include refreshments\, mementos and music provided by a professional DJ to help you dance the night away! Memory photos will be taken and available for purchase at the dance. The theme for the dance is &ldquo\;You Are My Superhero!&rdquo\; Tickets are $12.00 each and are sold in advance at the Park Office or online by clicking &quot\;Ticket Search&quot\; at the following link: https://bit.ly/2Ewnmc2 Seating is limited and fills quickly\, so please get your ticket early to ensure availability. Ticket sales will continue until capacity is reached.
LOCATION:Elkhart County 4-H Fairgrounds
UID:e.689.19200
SEQUENCE:3
DTSTAMP:20260423T163714Z
URL:https://business.goshen.org/events/details/mother-son-superhero-dance-19200
END:VEVENT

END:VCALENDAR
